BEGIN:VCALENDAR
VERSION:2.0
PRODID:-//Imkerverein Weißenhorn - ECPv6.15.20//NONSGML v1.0//EN
CALSCALE:GREGORIAN
METHOD:PUBLISH
X-ORIGINAL-URL:http://imker-weissenhorn.de
X-WR-CALDESC:Veranstaltungen für Imkerverein Weißenhorn
REFRESH-INTERVAL;VALUE=DURATION:PT1H
X-Robots-Tag:noindex
X-PUBLISHED-TTL:PT1H
BEGIN:VTIMEZONE
TZID:Europe/Berlin
BEGIN:DAYLIGHT
TZOFFSETFROM:+0100
TZOFFSETTO:+0200
TZNAME:CEST
DTSTART:20230326T010000
END:DAYLIGHT
BEGIN:STANDARD
TZOFFSETFROM:+0200
TZOFFSETTO:+0100
TZNAME:CET
DTSTART:20231029T010000
END:STANDARD
BEGIN:DAYLIGHT
TZOFFSETFROM:+0100
TZOFFSETTO:+0200
TZNAME:CEST
DTSTART:20240331T010000
END:DAYLIGHT
BEGIN:STANDARD
TZOFFSETFROM:+0200
TZOFFSETTO:+0100
TZNAME:CET
DTSTART:20241027T010000
END:STANDARD
BEGIN:DAYLIGHT
TZOFFSETFROM:+0100
TZOFFSETTO:+0200
TZNAME:CEST
DTSTART:20250330T010000
END:DAYLIGHT
BEGIN:STANDARD
TZOFFSETFROM:+0200
TZOFFSETTO:+0100
TZNAME:CET
DTSTART:20251026T010000
END:STANDARD
END:VTIMEZONE
BEGIN:VEVENT
DTSTART;TZID=Europe/Berlin:20240309T100000
DTEND;TZID=Europe/Berlin:20240309T170000
DTSTAMP:20260422T125435
CREATED:20240219T183123Z
LAST-MODIFIED:20240219T183530Z
UID:330-1709978400-1710003600@imker-weissenhorn.de
SUMMARY:Illertisser Saatgutmarkt
DESCRIPTION:VORTRÄGE und AUSSTELLER rund um Vielfalt im Garten\, Saatgut und Kulturpflanzen.        \nProgramm-Änderungen vorbehalten. \n10.00 Uhr Eröffnung durch Bürgermeister Jürgen Eisen \nVORTRÄGE DER VIELFALT im Glashaus\n11.00 Uhr Let it bean I Patrick Kaiser\, Genbänkle\n12.00 Uhr Tomatenvielfalt I Michael Schick\, Naturerlebnis Michi Schick\n13.00 Uhr Die tolle Knolle I Christian Müller\, Raritätenhof Müller \n\n\n\n\n\n\n\n\n\n\n\n\nDie STAUDENGÄRTNEREI GAISSMAYER hat an diesem Tag bis 17:00 Uhr geöffnet und\nbereichert den Markt mit Saatgut\, Fachliteratur\, dem MANUFACTUM-Gartenprogramm und\nihrem bunten Sortiment an Frühlingsstauden. \n\n\n\n\n\n\n\n\n\n\n\n\nDas Museumscafé hat an diesem Tag wieder für Sie geöffnet und erwartet Sie mit regionalen und biologischen Köstlichkeiten.
URL:http://imker-weissenhorn.de/event/illertisser-saatgutmarkt/
LOCATION:Museum der Gartenkultur\, Jungviehweide 3\, Illertissen
END:VEVENT
END:VCALENDAR