BEGIN:VCALENDAR
VERSION:2.0
PRODID:-//Imkerverein Weißenhorn - ECPv6.15.20//NONSGML v1.0//EN
CALSCALE:GREGORIAN
METHOD:PUBLISH
X-WR-CALNAME:Imkerverein Weißenhorn
X-ORIGINAL-URL:http://imker-weissenhorn.de
X-WR-CALDESC:Veranstaltungen für Imkerverein Weißenhorn
REFRESH-INTERVAL;VALUE=DURATION:PT1H
X-Robots-Tag:noindex
X-PUBLISHED-TTL:PT1H
BEGIN:VTIMEZONE
TZID:Europe/Berlin
BEGIN:DAYLIGHT
TZOFFSETFROM:+0100
TZOFFSETTO:+0200
TZNAME:CEST
DTSTART:20230326T010000
END:DAYLIGHT
BEGIN:STANDARD
TZOFFSETFROM:+0200
TZOFFSETTO:+0100
TZNAME:CET
DTSTART:20231029T010000
END:STANDARD
BEGIN:DAYLIGHT
TZOFFSETFROM:+0100
TZOFFSETTO:+0200
TZNAME:CEST
DTSTART:20240331T010000
END:DAYLIGHT
BEGIN:STANDARD
TZOFFSETFROM:+0200
TZOFFSETTO:+0100
TZNAME:CET
DTSTART:20241027T010000
END:STANDARD
BEGIN:DAYLIGHT
TZOFFSETFROM:+0100
TZOFFSETTO:+0200
TZNAME:CEST
DTSTART:20250330T010000
END:DAYLIGHT
BEGIN:STANDARD
TZOFFSETFROM:+0200
TZOFFSETTO:+0100
TZNAME:CET
DTSTART:20251026T010000
END:STANDARD
END:VTIMEZONE
BEGIN:VEVENT
DTSTART;TZID=Europe/Berlin:20240206T193000
DTEND;TZID=Europe/Berlin:20240206T210000
DTSTAMP:20260422T125135
CREATED:20240121T183715Z
LAST-MODIFIED:20240121T183715Z
UID:280-1707247800-1707253200@imker-weissenhorn.de
SUMMARY:Februar-Stammtisch
DESCRIPTION:Liebe Imkerinnen und Imker\, \nliebe Interessierte an der Imkerei\, \nder zweite Stammtisch findet am Dienstag\, den 06. Februar um 19:30 Uhr im ESC Heim in Weißenhorn statt. \nViele Grüße \nStefan und Matze\nDie Vorstandschaft
URL:http://imker-weissenhorn.de/event/februar-stammtisch/
LOCATION:ESC-Heim\, Auf der Bleiche 3\, Weissenhorn\, Bayern\, 89264\, Deutschland
END:VEVENT
BEGIN:VEVENT
DTSTART;TZID=Europe/Berlin:20240218T140000
DTEND;TZID=Europe/Berlin:20240218T160000
DTSTAMP:20260422T125135
CREATED:20240121T185842Z
LAST-MODIFIED:20240211T182012Z
UID:304-1708264800-1708272000@imker-weissenhorn.de
SUMMARY:Jahreshauptversammlung Kreisverband
DESCRIPTION:Liebe Imkerinnen und Imker\, \nam Sonntag den 18.02.2024 um 14.00 Uhr findet im Gasthof Hirsch in Attenhofen die diesjährige Jahreshauptversammlung des Kreises statt. \nVortrag:     Völkerführung im Jahresverlauf unter Berücksichtigung des\n                   Wärmehaushalts im Brutraum.\nReferent:    Gerhard Moll\, Imkermeister und Gründer der Imkerschule Ost-Alb\nDie Kreisverband und Vorstandschaft freut sich auf eine zahlreiche Teilnahme. \nBeste Grüße \nStefan und Matze \n 
URL:http://imker-weissenhorn.de/event/jahreshauptversammlung-kreisverband/
LOCATION:Gasthof Hirsch\, Römerstraße 31\, Weißenhorn/Attenhofen\, 89264
END:VEVENT
BEGIN:VEVENT
DTSTART;TZID=Europe/Berlin:20240228T190000
DTEND;TZID=Europe/Berlin:20240228T210000
DTSTAMP:20260422T125135
CREATED:20240211T182342Z
LAST-MODIFIED:20240211T182342Z
UID:318-1709146800-1709154000@imker-weissenhorn.de
SUMMARY:Vortrag „Die Bienen fit machen für die Zukunft“
DESCRIPTION:Fachberater Johann Fischer hält im Gasthof Adler (Hauptstraße 31; 86420 Diedorf) einen Fachvortrag über „Die Bienen fit machen für die Zukunft“ \nBeginn: 19.00 Uhr\n\nVeranstalter: IV Naturpark Augsburg Westliche Wälder e.V.\n 
URL:http://imker-weissenhorn.de/event/vortrag-die-bienen-fit-machen-fuer-die-zukunft/
LOCATION:Gasthof Adler Diedorf\, Hauptstraße 31\, Diedorf\, 86420
END:VEVENT
END:VCALENDAR