BEGIN:VCALENDAR
VERSION:2.0
PRODID:-//Imkerverein Weißenhorn - ECPv6.15.20//NONSGML v1.0//EN
CALSCALE:GREGORIAN
METHOD:PUBLISH
X-ORIGINAL-URL:http://imker-weissenhorn.de
X-WR-CALDESC:Veranstaltungen für Imkerverein Weißenhorn
REFRESH-INTERVAL;VALUE=DURATION:PT1H
X-Robots-Tag:noindex
X-PUBLISHED-TTL:PT1H
BEGIN:VTIMEZONE
TZID:Europe/Berlin
BEGIN:DAYLIGHT
TZOFFSETFROM:+0100
TZOFFSETTO:+0200
TZNAME:CEST
DTSTART:20230326T010000
END:DAYLIGHT
BEGIN:STANDARD
TZOFFSETFROM:+0200
TZOFFSETTO:+0100
TZNAME:CET
DTSTART:20231029T010000
END:STANDARD
BEGIN:DAYLIGHT
TZOFFSETFROM:+0100
TZOFFSETTO:+0200
TZNAME:CEST
DTSTART:20240331T010000
END:DAYLIGHT
BEGIN:STANDARD
TZOFFSETFROM:+0200
TZOFFSETTO:+0100
TZNAME:CET
DTSTART:20241027T010000
END:STANDARD
BEGIN:DAYLIGHT
TZOFFSETFROM:+0100
TZOFFSETTO:+0200
TZNAME:CEST
DTSTART:20250330T010000
END:DAYLIGHT
BEGIN:STANDARD
TZOFFSETFROM:+0200
TZOFFSETTO:+0100
TZNAME:CET
DTSTART:20251026T010000
END:STANDARD
END:VTIMEZONE
BEGIN:VEVENT
DTSTART;TZID=Europe/Berlin:20240302T140000
DTEND;TZID=Europe/Berlin:20240302T170000
DTSTAMP:20260422T111931
CREATED:20240211T182544Z
LAST-MODIFIED:20240211T182544Z
UID:322-1709388000-1709398800@imker-weissenhorn.de
SUMMARY:Schwäbischer Züchtertag
DESCRIPTION:Schwäbischer Züchtertag am Sa. 02 März 14.00 Uhr\nim Gasthaus Waldhorn- Steufzgen 80 in  87435 Kempten\n\nWarum ist es interessant\, am Züchtertag teilzunehmen? Schaut euch dieses Video an.\nhttps://www.youtube.com/watch?v=uZV49HhIQds&list=PLAsXBUbGW8Q5s5TgNxSzUobTJhvGg8s0v&index=3\n\nGeplante Tagesordnung:\n\nBegrüßung + Organisatorisches\nGrußwort vom Bay.-Zuchtobmann Rüdiger Wintersperger\nVortrag von Staatlichen Fachberater Herr Müller-Engler\nBericht vom Staatlichen Fachberater Johann Fischer\nBerichte der fünf schwäbischen Belegstellen
URL:http://imker-weissenhorn.de/event/schwaebischer-zuechtertag/
LOCATION:Gasthof Walthorn Kempten\, Steufzgen 80\, Kempten\, 87435
END:VEVENT
BEGIN:VEVENT
DTSTART;TZID=Europe/Berlin:20240309T100000
DTEND;TZID=Europe/Berlin:20240309T170000
DTSTAMP:20260422T111931
CREATED:20240219T183123Z
LAST-MODIFIED:20240219T183530Z
UID:330-1709978400-1710003600@imker-weissenhorn.de
SUMMARY:Illertisser Saatgutmarkt
DESCRIPTION:VORTRÄGE und AUSSTELLER rund um Vielfalt im Garten\, Saatgut und Kulturpflanzen.        \nProgramm-Änderungen vorbehalten. \n10.00 Uhr Eröffnung durch Bürgermeister Jürgen Eisen \nVORTRÄGE DER VIELFALT im Glashaus\n11.00 Uhr Let it bean I Patrick Kaiser\, Genbänkle\n12.00 Uhr Tomatenvielfalt I Michael Schick\, Naturerlebnis Michi Schick\n13.00 Uhr Die tolle Knolle I Christian Müller\, Raritätenhof Müller \n\n\n\n\n\n\n\n\n\n\n\n\nDie STAUDENGÄRTNEREI GAISSMAYER hat an diesem Tag bis 17:00 Uhr geöffnet und\nbereichert den Markt mit Saatgut\, Fachliteratur\, dem MANUFACTUM-Gartenprogramm und\nihrem bunten Sortiment an Frühlingsstauden. \n\n\n\n\n\n\n\n\n\n\n\n\nDas Museumscafé hat an diesem Tag wieder für Sie geöffnet und erwartet Sie mit regionalen und biologischen Köstlichkeiten.
URL:http://imker-weissenhorn.de/event/illertisser-saatgutmarkt/
LOCATION:Museum der Gartenkultur\, Jungviehweide 3\, Illertissen
END:VEVENT
BEGIN:VEVENT
DTSTART;TZID=Europe/Berlin:20240321T190000
DTEND;TZID=Europe/Berlin:20240321T210000
DTSTAMP:20260422T111931
CREATED:20240211T183126Z
LAST-MODIFIED:20240316T193918Z
UID:327-1711047600-1711054800@imker-weissenhorn.de
SUMMARY:Jahreshauptversammlung IV Weißenhorn
DESCRIPTION:Liebe Imkerinnen und Imker\, \nwir laden herzlich zur Jahreshauptversammlung unseres Imkervereins ein\, die am 21. März 2024 um 19.00 Uhr stattfinden wird. Die Versammlung wird im ESC Heim abgehalten. \n1. Begrüßung & Feststellung der ordnungsgemäßen Einberufung\n2. Bericht des Vorstands\n3. Bericht des Kassierers\n4. Entlastung der Vorstandschaft\n5. Sonstiges/Anträge\n6. Jubilare/Geburtstage\nDie Versammlung bietet die Gelegenheit\, einen Rückblick auf das vergangene Jahr zu werfen\, neue Ideen für kommende Aktivitäten zu besprechen. \nWir freuen uns auf eine interessante und konstruktive Jahreshauptversammlung und auf eure zahlreiche Teilnahme! \nMit imkerlichen Grüßen \nStefan und Matze
URL:http://imker-weissenhorn.de/event/jahreshauptversammlung-iv-weissenhorn/
LOCATION:ESC-Heim\, Auf der Bleiche 3\, Weissenhorn\, Bayern\, 89264\, Deutschland
END:VEVENT
BEGIN:VEVENT
DTSTART;TZID=Europe/Berlin:20240322T201500
DTEND;TZID=Europe/Berlin:20240322T230000
DTSTAMP:20260422T111931
CREATED:20240224T165838Z
LAST-MODIFIED:20240316T193527Z
UID:360-1711138500-1711148400@imker-weissenhorn.de
SUMMARY:Die lange Nacht der Bienenwissenschaft 2024
DESCRIPTION:Die 3. lange Nacht der Bienenwissenschaft wird als Livestream unter folgendem Link anzuschauen sein: \nhttps://online-events.techcast.cloud/de/lange-nacht-der-bienenwissenschaft-2024 \n  \nProgramm: \n\n\n\n20:15 – 20:20 UHR Begrüßung TORSTEN ELLMANN   DR. MARINA MEIXNER \n\n\n\n\n\n\n20:20 – 21:00 UHR Zukunftsfähige Imkerei ARTUR KAMMERER \n\n\n\n\n\n\n21:00 – 21:40 UHR Honig – Spiegelbild der Landschaft DR. SASKIA WÖHL \n\n\n\n\n\n\n21:40 – 22:20 UHR Elektromagnetische Felder\, ein Stressfaktor für Bienen? MANUEL TREDER \n\n\n\n\n\n\n22:20 – 23:00 UHR Lateral Flow Assay zur Diagnose von AFB DR. SANDRA EHRENBERG \n\n\n\n\n\n\n23:00 – 23:05 UHR Verabschiedung
URL:http://imker-weissenhorn.de/event/die-lange-nacht-der-bienenwissenschaften-2024/
LOCATION:Online-Livestream
END:VEVENT
END:VCALENDAR